BEGIN:VCALENDAR
VERSION:2.0
PRODID:-//Eventin//Event Calendar//EN
CALSCALE:GREGORIAN
METHOD:PUBLISH
BEGIN:VEVENT
UID:d33cba84482cfa5a6e476352a15a86a1@idnation.ca
SUMMARY:Rediffusion sur demande
DESCRIPTION:« Regards Croisés » est une collaboration entre experts qui 
 permet d’amplifier l’impact des événements éducatifs. Plutôt que de
  vous offrir un point de vue unique\, nous avons rassemblé cinq conférenc
 iers qui croisent leurs regards pour explorer des grandes idées autour de 
 la santé mentale en milieu de travail.\n\nChacun des conférenciers vous a
 pporte son expertise sur des sujets essentiels :\n\n \n\nLa gestion du str
 ess\, pour prévenir les risques psychosociaux et améliorer le bien-être 
 global.\n\n \n\nLe leadership\, pour créer un environnement bienveillant 
 et performant.\n\n \n\nLa créativité\, comme levier pour renforcer l’e
 ngagement et réduire le stress.\n\n \n\nLa résilience\, pour aider vos 
 équipes à faire face aux défis organisationnels.\n\n \n\nL’inclusion\
 , un pilier indispensable pour un climat de travail sain.\n\n \n\nCet év
 énement est porté par IDNation.ca\, une plateforme éducative révolution
 naire qui a pour mission de :\n\n \n\nFavoriser l’impact durable des con
 naissances grâce à des méthodes innovantes et engageantes.\n\n \n\nRéi
 nventer l’apprentissage collectif\, en créant des événements où la co
 llaboration entre experts enrichit les solutions proposées.\n\n \n\nOffri
 r des expériences éducatives sur mesure : des conférences\, panels de di
 scussion\, formations immersives et interactives qui s’adaptent à vos be
 soins organisationnels.\n\n \n\nIntroduction aux entrevues croisées :Le f
 ormat que nous vous proposons ici s’inspire des grandes émissions télé
 visées : les entrevues croisées.\n\n \n\n\nChaque conférencier est inte
 rviewé par deux autres experts\, permettant de croiser leurs expériences 
 et leurs idées pour créer un échange dynamique et captivant.\n \nCes int
 erviews sont suivies de questions en rafale\, un format court et percutant 
 conçu pour révéler des solutions concrètes et applicables aux réalité
 s des gestionnaires RH.\n\n\n \n\nNotre approche collective et multi-exper
 tise peut transformer vos événements éducatifs en outils puissants pour 
 inspirer vos équipes et résoudre des enjeux complexes.
LOCATION:Online
DTSTAMP:20260422T024304Z
DTSTART:20250227T163000Z
DTEND:20270227T050000Z
END:VEVENT
END:VCALENDAR
